BEGIN:VCALENDAR
VERSION:2.0
PRODID:-//MyCryptoTools - ECPv6.6.1//NONSGML v1.0//EN
CALSCALE:GREGORIAN
METHOD:PUBLISH
X-WR-CALNAME:MyCryptoTools
X-ORIGINAL-URL:https://mycryptotools.com
X-WR-CALDESC:Veranstaltungen für MyCryptoTools
REFRESH-INTERVAL;VALUE=DURATION:PT1H
X-Robots-Tag:noindex
X-PUBLISHED-TTL:PT1H
BEGIN:VTIMEZONE
TZID:Europe/Paris
BEGIN:DAYLIGHT
TZOFFSETFROM:+0100
TZOFFSETTO:+0200
TZNAME:CEST
DTSTART:20240331T010000
END:DAYLIGHT
BEGIN:STANDARD
TZOFFSETFROM:+0200
TZOFFSETTO:+0100
TZNAME:CET
DTSTART:20241027T010000
END:STANDARD
END:VTIMEZONE
BEGIN:VEVENT
DTSTART;TZID=Europe/Paris:20240917T093000
DTEND;TZID=Europe/Paris:20240917T110000
DTSTAMP:20260424T120123
CREATED:20240906T102529Z
LAST-MODIFIED:20240906T102529Z
UID:10000015-1726565400-1726570800@mycryptotools.com
SUMMARY:1-1 Online-Gespräch
DESCRIPTION:Du hast das Basic-Live-Webinar besucht und hast noch Fragen? \nOder hast du dich für eine Zusammenarbeit mit uns entschlossen und möchtest einen Account eröffnen? \nDann buche dir hier dein Ticket zu deinem persönlichen 1-1 Online-Gespräch. \nGerne stehen wir dir mit Rat und Tat zur Seite! \nSolltest du einen Account eröffnen wollen\, dann denke bitte an die erforderlichen Unterlagen. \nDas benötigst du alles zur Eröffnung eines Accounts: \n\nca. 40 Minuten Zeit\nDein Handy (wir müssen deinen Ausweis vorne und hinten ab fotografieren\, sowie ein Selfie von dir machen)\nEin freundliches Lächeln für die Kamera\nDeinen Personalausweis oder Reisepass (dieser darf natürlich nicht abgelaufen sein)\nDeine Steuer-Identifikationsnummer sprich Steuer-ID\nDeine Sozialversicherungsnummer\n\nEinen Kontoauszug um deine Adresse zu verifizieren – selbstverständlich kannst du deine Umsatzzahlen und Kontostände schwärzen.  Aber bitte nicht deine Adressdaten oder sonstiges schwärzen. \nWichtig! Der Kontoauszug darf nicht älter als 3 Monate sein! \n\n\n  \nWir telefonieren unseren 1-1 Gesprächs-Teilnehmern nach dem Online-Termin weder hinterher\, noch belästigen wir sie mit unnötigen weiteren E-Mails! \nJeder Interessent entscheidet in aller Ruhe\, ob er mit uns zusammenarbeiten möchte und nimmt dann von sich aus mit uns Kontakt auf. \n  \nWir freuen uns\, dich kennenzulernen! \nMyCryptoTools \nUli Mayer & Team \n  \n  \n 
URL:https://mycryptotools.com/veranstaltungen/1-1-online-gespraech-7/
CATEGORIES:Online-Webinar
ATTACH;FMTTYPE=image/jpeg:https://mycryptotools.com/wp-content/uploads/2024/08/IMG_7230.jpeg
ORGANIZER;CN="MyCryptoTools":MAILTO:info@mycryptotools.com
LOCATION:https://mycryptotools.com/veranstaltungen/1-1-online-gespraech-7/
END:VEVENT
BEGIN:VEVENT
DTSTART;TZID=Europe/Paris:20240917T080000
DTEND;TZID=Europe/Paris:20240917T090000
DTSTAMP:20260424T120123
CREATED:20240906T102138Z
LAST-MODIFIED:20240906T102138Z
UID:10000014-1726560000-1726563600@mycryptotools.com
SUMMARY:1-1 Online-Gespräch
DESCRIPTION:Du hast das Basic-Live-Webinar besucht und hast noch Fragen? \nOder hast du dich für eine Zusammenarbeit mit uns entschlossen und möchtest einen Account eröffnen? \nDann buche dir hier dein Ticket zu deinem persönlichen 1-1 Online-Gespräch. \nGerne stehen wir dir mit Rat und Tat zur Seite! \nSolltest du einen Account eröffnen wollen\, dann denke bitte an die erforderlichen Unterlagen. \nDas benötigst du alles zur Eröffnung eines Accounts: \n\nca. 40 Minuten Zeit\nDein Handy (wir müssen deinen Ausweis vorne und hinten ab fotografieren\, sowie ein Selfie von dir machen)\nEin freundliches Lächeln für die Kamera\nDeinen Personalausweis oder Reisepass (dieser darf natürlich nicht abgelaufen sein)\nDeine Steuer-Identifikationsnummer sprich Steuer-ID\nDeine Sozialversicherungsnummer\n\nEinen Kontoauszug um deine Adresse zu verifizieren – selbstverständlich kannst du deine Umsatzzahlen und Kontostände schwärzen.  Aber bitte nicht deine Adressdaten oder sonstiges schwärzen. \nWichtig! Der Kontoauszug darf nicht älter als 3 Monate sein! \n\n\n  \nWir telefonieren unseren 1-1 Gesprächs-Teilnehmern nach dem Online-Termin weder hinterher\, noch belästigen wir sie mit unnötigen weiteren E-Mails! \nJeder Interessent entscheidet in aller Ruhe\, ob er mit uns zusammenarbeiten möchte und nimmt dann von sich aus mit uns Kontakt auf. \n  \nWir freuen uns\, dich kennenzulernen! \nMyCryptoTools \nUli Mayer & Team \n  \n  \n 
URL:https://mycryptotools.com/veranstaltungen/1-1-online-gespraech-6/
CATEGORIES:Online-Webinar
ATTACH;FMTTYPE=image/jpeg:https://mycryptotools.com/wp-content/uploads/2024/08/IMG_7230.jpeg
ORGANIZER;CN="MyCryptoTools":MAILTO:info@mycryptotools.com
LOCATION:https://mycryptotools.com/veranstaltungen/1-1-online-gespraech-6/
END:VEVENT
BEGIN:VEVENT
DTSTART;TZID=Europe/Paris:20240916T160000
DTEND;TZID=Europe/Paris:20240916T170000
DTSTAMP:20260424T120123
CREATED:20240902T135718Z
LAST-MODIFIED:20240902T135718Z
UID:10000013-1726502400-1726506000@mycryptotools.com
SUMMARY:1-1 Online-Gespräch
DESCRIPTION:Du hast das Basic-Live-Webinar besucht und hast noch Fragen? \nOder hast du dich für eine Zusammenarbeit mit uns entschlossen und möchtest einen Account eröffnen? \nDann buche dir hier dein Ticket zu deinem persönlichen 1-1 Online-Gespräch. \nGerne stehen wir dir mit Rat und Tat zur Seite! \nSolltest du einen Account eröffnen wollen\, dann denke bitte an die erforderlichen Unterlagen. \nDas benötigst du alles zur Eröffnung eines Accounts: \n\nca. 40 Minuten Zeit\nDein Handy (wir müssen deinen Ausweis vorne und hinten ab fotografieren\, sowie ein Selfie von dir machen)\nEin freundliches Lächeln für die Kamera\nDeinen Personalausweis oder Reisepass (dieser darf natürlich nicht abgelaufen sein)\nDeine Steuer-Identifikationsnummer sprich Steuer-ID\nDeine Sozialversicherungsnummer\n\nEinen Kontoauszug um deine Adresse zu verifizieren – selbstverständlich kannst du deine Umsatzzahlen und Kontostände schwärzen.  Aber bitte nicht deine Adressdaten oder sonstiges schwärzen. \nWichtig! Der Kontoauszug darf nicht älter als 3 Monate sein! \n\n\n  \nWir telefonieren unseren 1-1 Gesprächs-Teilnehmern nach dem Online-Termin weder hinterher\, noch belästigen wir sie mit unnötigen weiteren E-Mails! \nJeder Interessent entscheidet in aller Ruhe\, ob er mit uns zusammenarbeiten möchte und nimmt dann von sich aus mit uns Kontakt auf. \n  \nWir freuen uns\, dich kennenzulernen! \nMyCryptoTools \nUli Mayer & Team \n  \n  \n 
URL:https://mycryptotools.com/veranstaltungen/1-1-online-gespraech-5/
CATEGORIES:Online-Webinar
ATTACH;FMTTYPE=image/jpeg:https://mycryptotools.com/wp-content/uploads/2024/08/IMG_7230.jpeg
ORGANIZER;CN="MyCryptoTools":MAILTO:info@mycryptotools.com
LOCATION:https://mycryptotools.com/veranstaltungen/1-1-online-gespraech-5/
END:VEVENT
BEGIN:VEVENT
DTSTART;TZID=Europe/Paris:20240916T140000
DTEND;TZID=Europe/Paris:20240916T150000
DTSTAMP:20260424T120123
CREATED:20240902T135514Z
LAST-MODIFIED:20240902T135514Z
UID:10000012-1726495200-1726498800@mycryptotools.com
SUMMARY:1-1 Online-Gespräch
DESCRIPTION:Du hast das Basic-Live-Webinar besucht und hast noch Fragen? \nOder hast du dich für eine Zusammenarbeit mit uns entschlossen und möchtest einen Account eröffnen? \nDann buche dir hier dein Ticket zu deinem persönlichen 1-1 Online-Gespräch. \nGerne stehen wir dir mit Rat und Tat zur Seite! \nSolltest du einen Account eröffnen wollen\, dann denke bitte an die erforderlichen Unterlagen. \nDas benötigst du alles zur Eröffnung eines Accounts: \n\nca. 40 Minuten Zeit\nDein Handy (wir müssen deinen Ausweis vorne und hinten ab fotografieren\, sowie ein Selfie von dir machen)\nEin freundliches Lächeln für die Kamera\nDeinen Personalausweis oder Reisepass (dieser darf natürlich nicht abgelaufen sein)\nDeine Steuer-Identifikationsnummer sprich Steuer-ID\nDeine Sozialversicherungsnummer\n\nEinen Kontoauszug um deine Adresse zu verifizieren – selbstverständlich kannst du deine Umsatzzahlen und Kontostände schwärzen.  Aber bitte nicht deine Adressdaten oder sonstiges schwärzen. \nWichtig! Der Kontoauszug darf nicht älter als 3 Monate sein! \n\n\n  \nWir telefonieren unseren 1-1 Gesprächs-Teilnehmern nach dem Online-Termin weder hinterher\, noch belästigen wir sie mit unnötigen weiteren E-Mails! \nJeder Interessent entscheidet in aller Ruhe\, ob er mit uns zusammenarbeiten möchte und nimmt dann von sich aus mit uns Kontakt auf. \n  \nWir freuen uns\, dich kennenzulernen! \nMyCryptoTools \nUli Mayer & Team \n  \n  \n 
URL:https://mycryptotools.com/veranstaltungen/1-1-online-gespraech-4/
CATEGORIES:Online-Webinar
ATTACH;FMTTYPE=image/jpeg:https://mycryptotools.com/wp-content/uploads/2024/08/IMG_7230.jpeg
ORGANIZER;CN="MyCryptoTools":MAILTO:info@mycryptotools.com
LOCATION:https://mycryptotools.com/veranstaltungen/1-1-online-gespraech-4/
END:VEVENT
BEGIN:VEVENT
DTSTART;TZID=Europe/Paris:20240915T183000
DTEND;TZID=Europe/Paris:20240915T193000
DTSTAMP:20260424T120123
CREATED:20240906T103512Z
LAST-MODIFIED:20240906T103512Z
UID:10000017-1726425000-1726428600@mycryptotools.com
SUMMARY:Basic Webinar
DESCRIPTION:Wer sind wir?\nWas tun wir?\n\nIn diesem Live-Webinar erfährst du\, wie du tatsächlich mit geringstem Aufwand ( 10-15 Minuten im Monat) völlig ohne Krypto-Vorkenntnisse zwischen 3-4% monatliche Gewinne erwirtschaften kannst! \nUnsere Kunden\, egal ob Hausfrau\, Hausmann\, Handwerker und Handwerkerinnen\, Personen aus dem Management\, Rechtsanwälte\, Steuerberater\, Ärztinnen usw. erfahren jeden Monat wie sie mit uns der Inflation ein Schnippchen schlagen können. \nJedes unserer Webinare  ist live! Fragen sind ausdrücklich erwünscht!\nDeshalb ist die Teilnehmeranzahl unserer Webinare begrenzt. \nIn unseren Webinaren findet kein Verkauf statt! \nWir telefonieren unseren Webinar-Teilnehmern nach den Präsentationen weder hinterher\, noch belästigen wir sie mit unnötigen weiteren E-Mails! \nJeder Interessent entscheidet in aller Ruhe\, ob er mit uns zusammenarbeiten möchte und nimmt dann von sich aus mit uns Kontakt auf. \nSelbstverständlich kann jeder auch mehrmals an einem Basic-Webinar teilnehmen! \nHierzu bitte einfach in unserem Webinar-Kalender einen geeigneten Termin finden und ein weiteres Ticket buchen. \nWir freuen uns\, dich kennenzulernen! \n  \nMyCryptoTools \nUli Mayer & Team \n  \n  \n 
URL:https://mycryptotools.com/veranstaltungen/basic-webinar-6/
CATEGORIES:Online-Webinar
ATTACH;FMTTYPE=image/jpeg:https://mycryptotools.com/wp-content/uploads/2024/08/IMG_7227.jpeg
ORGANIZER;CN="MyCryptoTools":MAILTO:info@mycryptotools.com
LOCATION:https://mycryptotools.com/veranstaltungen/basic-webinar-6/
END:VEVENT
BEGIN:VEVENT
DTSTART;TZID=Europe/Paris:20240914T090000
DTEND;TZID=Europe/Paris:20240914T100000
DTSTAMP:20260424T120123
CREATED:20240902T134446Z
LAST-MODIFIED:20240902T134446Z
UID:10000011-1726304400-1726308000@mycryptotools.com
SUMMARY:1-1 Online-Gespräch
DESCRIPTION:Du hast das Basic-Live-Webinar besucht und hast noch Fragen? \nOder hast du dich für eine Zusammenarbeit mit uns entschlossen und möchtest einen Account eröffnen? \nDann buche dir hier dein Ticket zu deinem persönlichen 1-1 Online-Gespräch. \nGerne stehen wir dir mit Rat und Tat zur Seite! \nSolltest du einen Account eröffnen wollen\, dann denke bitte an die erforderlichen Unterlagen. \nDas benötigst du alles zur Eröffnung eines Accounts: \n\nca. 40 Minuten Zeit\nDein Handy (wir müssen deinen Ausweis vorne und hinten ab fotografieren\, sowie ein Selfie von dir machen)\nEin freundliches Lächeln für die Kamera\nDeinen Personalausweis oder Reisepass (dieser darf natürlich nicht abgelaufen sein)\nDeine Steuer-Identifikationsnummer sprich Steuer-ID\nDeine Sozialversicherungsnummer\n\nEinen Kontoauszug um deine Adresse zu verifizieren – selbstverständlich kannst du deine Umsatzzahlen und Kontostände schwärzen.  Aber bitte nicht deine Adressdaten oder sonstiges schwärzen. \nWichtig! Der Kontoauszug darf nicht älter als 3 Monate sein! \n\n\n  \nWir telefonieren unseren 1-1 Gesprächs-Teilnehmern nach dem Online-Termin weder hinterher\, noch belästigen wir sie mit unnötigen weiteren E-Mails! \nJeder Interessent entscheidet in aller Ruhe\, ob er mit uns zusammenarbeiten möchte und nimmt dann von sich aus mit uns Kontakt auf. \n  \nWir freuen uns\, dich kennenzulernen! \nMyCryptoTools \nUli Mayer & Team \n  \n  \n 
URL:https://mycryptotools.com/veranstaltungen/1-1-online-gespraech-3/
CATEGORIES:Online-Webinar
ATTACH;FMTTYPE=image/jpeg:https://mycryptotools.com/wp-content/uploads/2024/08/IMG_7230.jpeg
ORGANIZER;CN="MyCryptoTools":MAILTO:info@mycryptotools.com
LOCATION:https://mycryptotools.com/veranstaltungen/1-1-online-gespraech-3/
END:VEVENT
BEGIN:VEVENT
DTSTART;TZID=Europe/Paris:20240912T170000
DTEND;TZID=Europe/Paris:20240912T180000
DTSTAMP:20260424T120123
CREATED:20240902T134014Z
LAST-MODIFIED:20240902T134814Z
UID:10000010-1726160400-1726164000@mycryptotools.com
SUMMARY:Basic Webinar
DESCRIPTION:Wer sind wir?\nWas tun wir?\n\nIn diesem Live-Webinar erfährst du\, wie du tatsächlich mit geringstem Aufwand ( 10-15 Minuten im Monat) völlig ohne Krypto-Vorkenntnisse zwischen 3-4% monatliche Gewinne erwirtschaften kannst! \nUnsere Kunden\, egal ob Hausfrau\, Hausmann\, Handwerker und Handwerkerinnen\, Personen aus dem Management\, Rechtsanwälte\, Steuerberater\, Ärztinnen usw. erfahren jeden Monat wie sie mit uns der Inflation ein Schnippchen schlagen können. \nJedes unserer Webinare  ist live! Fragen sind ausdrücklich erwünscht!\nDeshalb ist die Teilnehmeranzahl unserer Webinare begrenzt. \nIn unseren Webinaren findet kein Verkauf statt! \nWir telefonieren unseren Webinar-Teilnehmern nach den Präsentationen weder hinterher\, noch belästigen wir sie mit unnötigen weiteren E-Mails! \nJeder Interessent entscheidet in aller Ruhe\, ob er mit uns zusammenarbeiten möchte und nimmt dann von sich aus mit uns Kontakt auf. \nSelbstverständlich kann jeder auch mehrmals an einem Basic-Webinar teilnehmen! \nHierzu bitte einfach in unserem Webinar-Kalender einen geeigneten Termin finden und ein weiteres Ticket buchen. \nWir freuen uns\, dich kennenzulernen! \n  \nMyCryptoTools \nUli Mayer & Team \n  \n  \n 
URL:https://mycryptotools.com/veranstaltungen/basic-webinar-4/
CATEGORIES:Online-Webinar
ATTACH;FMTTYPE=image/jpeg:https://mycryptotools.com/wp-content/uploads/2024/08/IMG_7227.jpeg
ORGANIZER;CN="MyCryptoTools":MAILTO:info@mycryptotools.com
LOCATION:https://mycryptotools.com/veranstaltungen/basic-webinar-4/
END:VEVENT
BEGIN:VEVENT
DTSTART;TZID=Europe/Paris:20240910T180000
DTEND;TZID=Europe/Paris:20240910T190000
DTSTAMP:20260424T120123
CREATED:20240830T132845Z
LAST-MODIFIED:20240830T132845Z
UID:10000009-1725991200-1725994800@mycryptotools.com
SUMMARY:Basic Webinar
DESCRIPTION:Wer sind wir?\nWas tun wir?\n\nIn diesem Live-Webinar erfährst du\, wie du tatsächlich mit geringstem Aufwand ( 10-15 Minuten im Monat) völlig ohne Krypto-Vorkenntnisse zwischen 3-4% monatliche Gewinne erwirtschaften kannst! \nUnsere Kunden\, egal ob Hausfrau\, Hausmann\, Handwerker und Handwerkerinnen\, Personen aus dem Management\, Rechtsanwälte\, Steuerberater\, Ärztinnen usw. erfahren jeden Monat wie sie mit uns der Inflation ein Schnippchen schlagen können. \nJedes unserer Webinare  ist live! Fragen sind ausdrücklich erwünscht!\nDeshalb ist die Teilnehmeranzahl unserer Webinare begrenzt. \nIn unseren Webinaren findet kein Verkauf statt! \nWir telefonieren unseren Webinar-Teilnehmern nach den Präsentationen weder hinterher\, noch belästigen wir sie mit unnötigen weiteren E-Mails! \nJeder Interessent entscheidet in aller Ruhe\, ob er mit uns zusammenarbeiten möchte und nimmt dann von sich aus mit uns Kontakt auf. \nSelbstverständlich kann jeder auch mehrmals an einem Basic-Webinar teilnehmen! \nHierzu bitte einfach in unserem Webinar-Kalender einen geeigneten Termin finden und ein weiteres Ticket buchen. \nWir freuen uns\, dich kennenzulernen! \n  \nMyCryptoTools \nUli Mayer & Team \n  \n  \n 
URL:https://mycryptotools.com/veranstaltungen/basic-webinar-3/
CATEGORIES:Online-Webinar
ATTACH;FMTTYPE=image/jpeg:https://mycryptotools.com/wp-content/uploads/2024/08/IMG_7227.jpeg
ORGANIZER;CN="MyCryptoTools":MAILTO:info@mycryptotools.com
LOCATION:https://mycryptotools.com/veranstaltungen/basic-webinar-3/
END:VEVENT
BEGIN:VEVENT
DTSTART;TZID=Europe/Paris:20240910T080000
DTEND;TZID=Europe/Paris:20240910T090000
DTSTAMP:20260424T120123
CREATED:20240830T131600Z
LAST-MODIFIED:20240830T131600Z
UID:10000008-1725955200-1725958800@mycryptotools.com
SUMMARY:1-1 Online-Gespräch
DESCRIPTION:Du hast das Basic-Live-Webinar besucht und hast noch Fragen? \nOder hast du dich für eine Zusammenarbeit mit uns entschlossen und möchtest einen Account eröffnen? \nDann buche dir hier dein Ticket zu deinem persönlichen 1-1 Online-Gespräch. \nGerne stehen wir dir mit Rat und Tat zur Seite! \nSolltest du einen Account eröffnen wollen\, dann denke bitte an die erforderlichen Unterlagen. \nDas benötigst du alles zur Eröffnung eines Accounts: \n\nca. 40 Minuten Zeit\nDein Handy (wir müssen deinen Ausweis vorne und hinten ab fotografieren\, sowie ein Selfie von dir machen)\nEin freundliches Lächeln für die Kamera\nDeinen Personalausweis oder Reisepass (dieser darf natürlich nicht abgelaufen sein)\nDeine Steuer-Identifikationsnummer sprich Steuer-ID\nDeine Sozialversicherungsnummer\n\nEinen Kontoauszug um deine Adresse zu verifizieren – selbstverständlich kannst du deine Umsatzzahlen und Kontostände schwärzen.  Aber bitte nicht deine Adressdaten oder sonstiges schwärzen. \nWichtig! Der Kontoauszug darf nicht älter als 3 Monate sein! \n\n\n  \nWir telefonieren unseren 1-1 Gesprächs-Teilnehmern nach dem Online-Termin weder hinterher\, noch belästigen wir sie mit unnötigen weiteren E-Mails! \nJeder Interessent entscheidet in aller Ruhe\, ob er mit uns zusammenarbeiten möchte und nimmt dann von sich aus mit uns Kontakt auf. \n  \nWir freuen uns\, dich kennenzulernen! \nMyCryptoTools \nUli Mayer & Team \n  \n  \n 
URL:https://mycryptotools.com/veranstaltungen/1-1-online-gespraech-2/
CATEGORIES:Online-Webinar
ATTACH;FMTTYPE=image/jpeg:https://mycryptotools.com/wp-content/uploads/2024/08/IMG_7230.jpeg
ORGANIZER;CN="MyCryptoTools":MAILTO:info@mycryptotools.com
LOCATION:https://mycryptotools.com/veranstaltungen/1-1-online-gespraech-2/
END:VEVENT
BEGIN:VEVENT
DTSTART;TZID=Europe/Paris:20240909T130000
DTEND;TZID=Europe/Paris:20240909T140000
DTSTAMP:20260424T120123
CREATED:20240830T130104Z
LAST-MODIFIED:20240830T130956Z
UID:10000007-1725886800-1725890400@mycryptotools.com
SUMMARY:1-1 Online-Gespräch
DESCRIPTION:Du hast das Basic-Live-Webinar besucht und hast noch Fragen? \nOder hast du dich für eine Zusammenarbeit mit uns entschlossen und möchtest einen Account eröffnen? \nDann buche dir hier dein Ticket zu deinem persönlichen 1-1 Online-Gespräch. \nGerne stehen wir dir mit Rat und Tat zur Seite! \nSolltest du einen Account eröffnen wollen\, dann denke bitte an die erforderlichen Unterlagen. \nDas benötigst du alles zur Eröffnung eines Accounts: \n\nca. 40 Minuten Zeit\nDein Handy (wir müssen deinen Ausweis vorne und hinten ab fotografieren\, sowie ein Selfie von dir machen)\nEin freundliches Lächeln für die Kamera\nDeinen Personalausweis oder Reisepass (dieser darf natürlich nicht abgelaufen sein)\nDeine Steuer-Identifikationsnummer sprich Steuer-ID\nDeine Sozialversicherungsnummer\n\nEinen Kontoauszug um deine Adresse zu verifizieren – selbstverständlich kannst du deine Umsatzzahlen und Kontostände schwärzen.  Aber bitte nicht deine Adressdaten oder sonstiges schwärzen. \nWichtig! Der Kontoauszug darf nicht älter als 3 Monate sein! \n\n\n  \nWir telefonieren unseren 1-1 Gesprächs-Teilnehmern nach dem Online-Termin weder hinterher\, noch belästigen wir sie mit unnötigen weiteren E-Mails! \nJeder Interessent entscheidet in aller Ruhe\, ob er mit uns zusammenarbeiten möchte und nimmt dann von sich aus mit uns Kontakt auf. \n  \nWir freuen uns\, dich kennenzulernen! \nMyCryptoTools \nUli Mayer & Team \n  \n  \n 
URL:https://mycryptotools.com/veranstaltungen/1-1-online-gespraech/
CATEGORIES:Online-Webinar
ATTACH;FMTTYPE=image/jpeg:https://mycryptotools.com/wp-content/uploads/2024/08/IMG_7230.jpeg
ORGANIZER;CN="MyCryptoTools":MAILTO:info@mycryptotools.com
LOCATION:https://mycryptotools.com/veranstaltungen/1-1-online-gespraech/
END:VEVENT
BEGIN:VEVENT
DTSTART;TZID=Europe/Paris:20240909T100000
DTEND;TZID=Europe/Paris:20240909T110000
DTSTAMP:20260424T120123
CREATED:20240829T145931Z
LAST-MODIFIED:20240830T130914Z
UID:10000005-1725876000-1725879600@mycryptotools.com
SUMMARY:Basic Webinar
DESCRIPTION:Wer sind wir?\nWas tun wir?\n\nIn diesem Live-Webinar erfährst du\, wie du tatsächlich mit geringstem Aufwand ( 10-15 Minuten im Monat) völlig ohne Krypto-Vorkenntnisse zwischen 3-4% monatliche Gewinne erwirtschaften kannst! \nUnsere Kunden\, egal ob Hausfrau\, Hausmann\, Handwerker und Handwerkerinnen\, Personen aus dem Management\, Rechtsanwälte\, Steuerberater\, Ärztinnen usw. erfahren jeden Monat wie sie mit uns der Inflation ein Schnippchen schlagen können. \nJedes unserer Webinare  ist live! Fragen sind ausdrücklich erwünscht!\nDeshalb ist die Teilnehmeranzahl unserer Webinare begrenzt. \nIn unseren Webinaren findet kein Verkauf statt! \nWir telefonieren unseren Webinar-Teilnehmern nach den Präsentationen weder hinterher\, noch belästigen wir sie mit unnötigen weiteren E-Mails! \nJeder Interessent entscheidet in aller Ruhe\, ob er mit uns zusammenarbeiten möchte und nimmt dann von sich aus mit uns Kontakt auf. \nSelbstverständlich kann jeder auch mehrmals an einem Basic-Webinar teilnehmen! \nHierzu bitte einfach in unserem Webinar-Kalender einen geeigneten Termin finden und ein weiteres Ticket buchen. \nWir freuen uns\, dich kennenzulernen! \n  \nMyCryptoTools \nUli Mayer & Team \n  \n  \n 
URL:https://mycryptotools.com/veranstaltungen/basic-webinar/
CATEGORIES:Online-Webinar
ATTACH;FMTTYPE=image/jpeg:https://mycryptotools.com/wp-content/uploads/2024/08/IMG_7227.jpeg
ORGANIZER;CN="MyCryptoTools":MAILTO:info@mycryptotools.com
LOCATION:https://mycryptotools.com/veranstaltungen/basic-webinar/
END:VEVENT
BEGIN:VEVENT
DTSTART;TZID=Europe/Paris:20240907T100000
DTEND;TZID=Europe/Paris:20240907T110000
DTSTAMP:20260424T120123
CREATED:20240830T081321Z
LAST-MODIFIED:20240830T091437Z
UID:10000006-1725703200-1725706800@mycryptotools.com
SUMMARY:Basic Webinar
DESCRIPTION:Wer sind wir?\nWas tun wir?\n\nIn diesem Live-Webinar erfährst du\, wie du tatsächlich mit geringstem Aufwand ( 10-15 Minuten im Monat) völlig ohne Krypto-Vorkenntnisse zwischen 3-4% monatliche Gewinne erwirtschaften kannst! \nUnsere Kunden\, egal ob Hausfrau\, Hausmann\, Handwerker und Handwerkerinnen\, Personen aus dem Management\, Rechtsanwälte\, Steuerberater\, Ärztinnen usw. erfahren jeden Monat wie sie mit uns der Inflation ein Schnippchen schlagen können. \nJedes unserer Webinare  ist live! Fragen sind ausdrücklich erwünscht!\nDeshalb ist die Teilnehmeranzahl unserer Webinare begrenzt. \nIn unseren Webinaren findet kein Verkauf statt! \nWir telefonieren unseren Webinar-Teilnehmern nach den Präsentationen weder hinterher\, noch belästigen wir sie mit unnötigen weiteren E-Mails! \nJeder Interessent entscheidet in aller Ruhe\, ob er mit uns zusammenarbeiten möchte und nimmt dann von sich aus mit uns Kontakt auf. \nSelbstverständlich kann jeder auch mehrmals an einem Basic-Webinar teilnehmen! \nHierzu bitte einfach in unserem Webinar-Kalender einen geeigneten Termin finden und ein weiteres Ticket buchen. \nWir freuen uns\, dich kennenzulernen! \n  \nMyCryptoTools \nUli Mayer & Team \n  \n  \n 
URL:https://mycryptotools.com/veranstaltungen/basic-webinar-2/
CATEGORIES:Online-Webinar
ATTACH;FMTTYPE=image/jpeg:https://mycryptotools.com/wp-content/uploads/2024/08/IMG_7227.jpeg
ORGANIZER;CN="MyCryptoTools":MAILTO:info@mycryptotools.com
LOCATION:https://mycryptotools.com/veranstaltungen/basic-webinar-2/
END:VEVENT
END:VCALENDAR